BEGIN:VCALENDAR
PRODID:-//AT Content Types//AT Event//EN
VERSION:2.0
METHOD:PUBLISH
BEGIN:VEVENT
DTSTAMP:20260423T074709Z
CREATED:20211219T201350Z
UID:ATEvent-d19b98ecf6ca4016886681f21fb8600e
LAST-MODIFIED:20211221T151708Z
SUMMARY:Stakeholder briefing on Forward Work Programme 2022-23
DTSTART:20220201T100000Z
DTEND:20220201T113000Z
DESCRIPTION:We are holding a stakeholder briefing as an opportunity to
  provide an overview of our draft FWP and clarify any issues/ answer a
 ny questions.\n\nPlease contact Barbara Brown (barbara.brown@uregni.go
 v.uk) by 25 January to register your attendance.
CLASS:PUBLIC
END:VEVENT
END:VCALENDAR
