BEGIN:VCALENDAR
PRODID:-//AT Content Types//AT Event//EN
VERSION:2.0
METHOD:PUBLISH
BEGIN:VEVENT
DTSTAMP:20260421T104244Z
CREATED:20250821T153209Z
UID:ATEvent-9c340a72686c4a84adac08689cf2252e
LAST-MODIFIED:20250822T124041Z
SUMMARY:Public Consultation Event: Wednesday 27th August at 10.30am to 12.30pm – Boardroom\, Tower Hill\, Armagh BT61 9DP
DTSTART:20250827T093000Z
DTEND:20250827T113000Z
DESCRIPTION:As part of the Public Consultation of the Children and You
 ng People’s Emotional Health and Wellbeing (EHWB) Framework\, we are
  pleased to offer a series of in person and online seminars to provide
  further information which will take place on Wednesday 27th August at
  10.30am to 12.30pm – Boardroom\, Tower Hill\, Armagh BT61 9DP.
CLASS:PUBLIC
END:VEVENT
END:VCALENDAR
