BEGIN:VCALENDAR
PRODID:-//AT Content Types//AT Event//EN
VERSION:2.0
METHOD:PUBLISH
BEGIN:VEVENT
DTSTAMP:20260421T104244Z
CREATED:20250821T153925Z
UID:ATEvent-e6857992bc69481c9727135cf49cd0f1
LAST-MODIFIED:20250822T124041Z
SUMMARY:Public Consultation Event: Thursday 4th September at 2pm to 4pm – Conference Room\, CR2\, 12-22 Linen Hall Street\, Belfast BT2 8BS
DTSTART:20250904T130000Z
DTEND:20250904T150000Z
DESCRIPTION:As part of the Public Consultation of the Children and You
 ng People’s Emotional Health and Wellbeing (EHWB) Framework\, we are
  pleased to offer a series of in person and online seminars to provide
  further information which will take place on  Thursday 4th September 
 at 2pm to 4pm – Conference Room\, CR2\, 12-22 Linen Hall Street\, Be
 lfast BT2 8BS
CLASS:PUBLIC
END:VEVENT
END:VCALENDAR
