BEGIN:VCALENDAR
PRODID:-//AT Content Types//AT Event//EN
VERSION:2.0
METHOD:PUBLISH
BEGIN:VEVENT
DTSTAMP:20260421T104243Z
CREATED:20250821T153806Z
UID:ATEvent-be9ae8faaf024cf1be60baaece6f5a56
LAST-MODIFIED:20250822T124041Z
SUMMARY:Public Consultation Event: Monday 1st September at 2pm to 4pm – Boardroom\, Gransha Park House\, 15 Gransha Park\, Clooney Road\, Londonderry BT47 6FN
DTSTART:20250901T130000Z
DTEND:20250901T150000Z
DESCRIPTION:As part of the Public Consultation of the Children and You
 ng People’s Emotional Health and Wellbeing (EHWB) Framework\, we are
  pleased to offer a series of in person and online seminars to provide
  further information which will take place on Monday 1st September at 
 2pm to 4pm – Boardroom\, Gransha Park House\, 15 Gransha Park\, Cloo
 ney Road\, Londonderry BT47 6FN
CLASS:PUBLIC
END:VEVENT
END:VCALENDAR
