BEGIN:VCALENDAR
PRODID:-//AT Content Types//AT Event//EN
VERSION:2.0
METHOD:PUBLISH
BEGIN:VEVENT
DTSTAMP:20260421T122545Z
CREATED:20250821T153627Z
UID:ATEvent-5e948bda359546e785839325989c2293
LAST-MODIFIED:20250822T124041Z
SUMMARY:Public Consultation Event: Friday 29th August at 10.30am to 12.30pm – Committee Room 4\, County Hall\, 182 Galgorm Road\, Ballymena BT42 1QB
DTSTART:20250829T093000Z
DTEND:20250829T113000Z
DESCRIPTION:As part of the Public Consultation of the Children and You
 ng People’s Emotional Health and Wellbeing (EHWB) Framework\, we are
  pleased to offer a series of in person and online seminars to provide
  further information which will take place on  Friday 29th August at 1
 0.30am to 12.30pm – Committee Room 4\, County Hall\, 182 Galgorm Roa
 d\, Ballymena BT42 1QB
CLASS:PUBLIC
END:VEVENT
END:VCALENDAR
