BEGIN:VCALENDAR
PRODID:-//AT Content Types//AT Event//EN
VERSION:2.0
METHOD:PUBLISH
BEGIN:VEVENT
DTSTAMP:20260422T060430Z
CREATED:20230714T114036Z
UID:ATEvent-62bd5533deea4a72a277afed8084ec05
LAST-MODIFIED:20230714T114200Z
SUMMARY:Caring Together in Belfast 2023 Onwards - consultation event
DTSTART:20230906T180000Z
DTEND:20230906T193000Z
DESCRIPTION:The Trust invites carers to join this session to hear more
  about the plan and input into the final Strategy.  This is an on-line
  event - register to attend at https://forms.office.com/pages/response
 page.aspx?id=3jCanNfYpEqWAEvnYl_2xRSax- sXqnVPkK1XsHU94apURUZYNkxCVERC
 OVBZTkRQR04xVUFOQUFKQS4u
CLASS:PUBLIC
END:VEVENT
END:VCALENDAR
