BEGIN:VCALENDAR
PRODID:-//AT Content Types//AT Event//EN
VERSION:2.0
METHOD:PUBLISH
BEGIN:VEVENT
DTSTAMP:20260422T060320Z
CREATED:20230714T114036Z
UID:ATEvent-977d45f181ac4bb394044cc76e8481ab
LAST-MODIFIED:20230714T114200Z
SUMMARY:Caring Together in Belfast 2023 Onwards - consultation event
DTSTART:20230823T130000Z
DTEND:20230823T143000Z
DESCRIPTION:The Trust invites carers to join this session to hear more
  about the plan and input into the final Strategy.  This event will ta
 ke place at Girdwood Community Hub\, 10 Girdwood Avenue\, Belfast\, BT
 14 6EG\nRegister to attend at\nhttps://forms.office.com/pages/response
 page.aspx?id=3jCanNfYpEqWAEvnYl_2xRSax- sXqnVPkK1XsHU94apURUZYNkxCVERC
 OVBZTkRQR04xVUFOQUFKQS4u
CLASS:PUBLIC
END:VEVENT
END:VCALENDAR
