BEGIN:VCALENDAR
PRODID:-//AT Content Types//AT Event//EN
VERSION:2.0
METHOD:PUBLISH
BEGIN:VEVENT
DTSTAMP:20260422T060333Z
CREATED:20230714T114037Z
UID:ATEvent-9c90e43163864adf8c4a0b5dd455b144
LAST-MODIFIED:20230714T114159Z
SUMMARY:Caring Together in Belfast 2023 Onwards - consultation event
DTSTART:20230822T173000Z
DTEND:20230822T190000Z
DESCRIPTION:The Trust invites carers to join this session to hear more
  about the plan and input into the final Strategy. This event will tak
 e place at the Arches Wellbeing and Treatment Centre \n1 Westminster A
 venue North\, Belfast\, BT4 1NS.\n\nRegister to attend at https://form
 s.office.com/pages/responsepage.aspx?id=3jCanNfYpEqWAEvnYl_2xRSax- sXq
 nVPkK1XsHU94apURUZYNkxCVERCOVBZTkRQR04xVUFOQUFKQS4u
CLASS:PUBLIC
END:VEVENT
END:VCALENDAR
