BEGIN:VCALENDAR
PRODID:-//AT Content Types//AT Event//EN
VERSION:2.0
METHOD:PUBLISH
BEGIN:VEVENT
DTSTAMP:20260422T024424Z
CREATED:20230309T144622Z
UID:ATEvent-49cb319135da425e83c86761cb8820a6
LAST-MODIFIED:20230607T142550Z
SUMMARY:Regulation of Pharmacy Technicians in Northern Ireland moves forward
DTSTART:20220628T230000Z
DTEND:20220629T225900Z
DESCRIPTION:In June 2022\, the Minister for Health announced following
  public consultation\, that work was to begin to establish pharmacy te
 chnicians as a regulated healthcare profession in Northern Ireland. Th
 is will be a key enabler to enhancing the contribution that pharmacy t
 echnicians can make to the delivery of healthcare across all settings.
  It will allow the regulator to strengthen its role in protecting pati
 ents and promoting high standards\, thereby enhancing the public’s c
 onfidence and trust in pharmacy practice.\n\nhttps://www.health-ni.gov
 .uk/news/regulation-pharmacy-technicians-northern-ireland-moves-forwar
 d
CLASS:PUBLIC
END:VEVENT
END:VCALENDAR
