BEGIN:VCALENDAR
PRODID:-//AT Content Types//AT Event//EN
VERSION:2.0
METHOD:PUBLISH
BEGIN:VEVENT
DTSTAMP:20260422T024626Z
CREATED:20230227T110107Z
UID:ATEvent-2e3b85dbc8484b4e85f3da5349a081bd
LAST-MODIFIED:20230607T142550Z
SUMMARY:Pharmacy Workforce Review 2020
DTSTART:20180301T000000Z
DTEND:20201109T235900Z
DESCRIPTION:In 2018\, the first Northern Ireland Pharmacy Workforce Re
 view was commissioned to gain a better understanding of the numbers an
 d skills mix in the pharmacy workforce and to inform planning and futu
 re investment in services and education. The Pharmacy Technicians Repo
 rt was then published in 2020\, and will be used to support the implem
 entation of the 2020 Pharmacy Workforce Review’s actions for in Nort
 hern Ireland. These actions include a commitment to take forward the r
 egulation of the pharmacy technician profession\, in-line with the res
 t of the United Kingdom. Also to work with education providers to ensu
 re sufficient training places to meet the needs of the health and soci
 al care service\, to develop the technician workforce in general pract
 ice\, hospital and community pharmacy sectors and promote career progr
 ession in all sectors.\n\nhttps://www.health-ni.gov.uk/publications/ph
 armacy-workforce-review-2020
CLASS:PUBLIC
END:VEVENT
END:VCALENDAR
