BEGIN:VCALENDAR
PRODID:-//AT Content Types//AT Event//EN
VERSION:2.0
METHOD:PUBLISH
BEGIN:VEVENT
DTSTAMP:20260422T024043Z
CREATED:20230309T144622Z
UID:ATEvent-bb63c230376a4012bef1c0014d7dc8b4
LAST-MODIFIED:20230607T142550Z
SUMMARY:National Pharmacy Technician Day
DTSTART:20231016T230000Z
DTEND:20231017T225900Z
DESCRIPTION:Each year\, the pharmacy community takes a day to especial
 ly celebrate pharmacy technicians and support staff. Employers and edu
 cational providers are encouraged to ensure that the public\, patients
  and other healthcare professions understand the importance of these r
 oles and to show appreciation of the importance of the work technician
 s do every day.
CLASS:PUBLIC
END:VEVENT
END:VCALENDAR
