BEGIN:VCALENDAR
PRODID:-//AT Content Types//AT Event//EN
VERSION:2.0
METHOD:PUBLISH
BEGIN:VEVENT
DTSTAMP:20260423T195434Z
CREATED:20260303T134303Z
UID:ATEvent-2954f4fda0dd4cc9816efe103821c261
LAST-MODIFIED:20260303T134336Z
SUMMARY:In Person Public Engagement Event
DTSTART:20260311T140000Z
DTEND:20260311T190000Z
DESCRIPTION:This event offers an opportunity to engage directly with r
 epresentatives of the project team.
LOCATION:Magilligan Community Centre\, 394 Seacoast Road\, Bellarena\, Limavady\, BT49 0LA
CLASS:PUBLIC
END:VEVENT
END:VCALENDAR
