BEGIN:VCALENDAR
PRODID:-//AT Content Types//AT Event//EN
VERSION:2.0
METHOD:PUBLISH
BEGIN:VEVENT
DTSTAMP:20260421T161559Z
CREATED:20231206T115453Z
UID:ATEvent-2afd1556061d4eb3940d913ce9339beb
LAST-MODIFIED:20231208T125515Z
SUMMARY:References
DTSTART:20231208T090000Z
DTEND:20240229T160000Z
DESCRIPTION:(a) Academic - from primary degree institution\n(b) Head o
 f Department - from proposed university / centre of postgraduate study
 \n(c) Head of Branch at proposed study centre (if applicable)\nFurther
  information available in the Terms and Conditions.
CLASS:PUBLIC
END:VEVENT
END:VCALENDAR
