BEGIN:VCALENDAR
PRODID:-//AT Content Types//AT Event//EN
VERSION:2.0
METHOD:PUBLISH
BEGIN:VEVENT
DTSTAMP:20260421T161743Z
CREATED:20231206T115453Z
UID:ATEvent-2f40a43cafbf4a78b0f578ba932444ac
LAST-MODIFIED:20231208T125515Z
SUMMARY:Criteria Based Interviews
DTSTART:20240325T090000Z
DTEND:20240327T170000Z
DESCRIPTION:Held on 25 - 27 March 2024 in Clare House\, 303 Airport Ro
 ad West\, Belfast BT3 9ED. Candidates invited to interview will be inf
 ormed of the date and time of interview in writing by e-mail.
CLASS:PUBLIC
END:VEVENT
END:VCALENDAR
