BEGIN:VCALENDAR
PRODID:-//AT Content Types//AT Event//EN
VERSION:2.0
METHOD:PUBLISH
BEGIN:VEVENT
DTSTAMP:20260422T021933Z
CREATED:20211108T105635Z
UID:ATEvent-b0bd16ba58d64567ac643c405e027a4d
LAST-MODIFIED:20230217T104816Z
SUMMARY:Future Agricultural Policy Proposals Consultation Information Session 4
DTSTART:20220202T100000Z
DTEND:20220202T110000Z
DESCRIPTION:Future Agricultural Policy Proposals Consultation Informat
 ion Session 4. To register for this event please go to the DAERA homep
 age where you can register. See the Related section below for the link
 .
CLASS:PUBLIC
END:VEVENT
END:VCALENDAR
