BEGIN:VCALENDAR
PRODID:-//AT Content Types//AT Event//EN
VERSION:2.0
METHOD:PUBLISH
BEGIN:VEVENT
DTSTAMP:20260422T041016Z
CREATED:20211027T112013Z
UID:ATEvent-42688be529a5408888daaeb8c9cae04d
LAST-MODIFIED:20230217T104816Z
SUMMARY:Future Agricultural Policy Proposals Consultation Information Session 2
DTSTART:20220120T190000Z
DTEND:20220120T200000Z
DESCRIPTION:Future Agricultural Policy Proposals Consultation Informat
 ion Session 2. To register for this event please go to the DAERA homep
 age where you can register. See the Related section below for the link
 .
CLASS:PUBLIC
END:VEVENT
END:VCALENDAR
