BEGIN:VCALENDAR
PRODID:-//AT Content Types//AT Event//EN
VERSION:2.0
METHOD:PUBLISH
BEGIN:VEVENT
DTSTAMP:20260422T022021Z
CREATED:20211027T112013Z
UID:ATEvent-ca37f8f50fe848fdb601ab5629591275
LAST-MODIFIED:20230217T104816Z
SUMMARY:Future Agricultural Policy Proposals Consultation Information Session 1
DTSTART:20220111T140000Z
DTEND:20220111T150000Z
DESCRIPTION:Future Agricultural Policy Proposals Consultation Informat
 ion Session 1. To register for this event please go to the DAERA homep
 age where you can register. See the Related section below for the link
 .
CLASS:PUBLIC
END:VEVENT
END:VCALENDAR
