BEGIN:VCALENDAR
PRODID:-//AT Content Types//AT Event//EN
VERSION:2.0
METHOD:PUBLISH
BEGIN:VEVENT
DTSTAMP:20260422T022132Z
CREATED:20211027T112013Z
UID:ATEvent-ad829fc97ccb4c1cbb82702a2096f690
LAST-MODIFIED:20230217T104816Z
SUMMARY:Future Agricultural Policy Proposals Consultation Information Session 3.
DTSTART:20220128T140000Z
DTEND:20220128T150000Z
DESCRIPTION:Future Agricultural Policy Proposals Consultation Informat
 ion Session 3. To register for this event please go to the DAERA homep
 age where you can register. See the Related section below for the link
 .
CLASS:PUBLIC
END:VEVENT
END:VCALENDAR
