BEGIN:VCALENDAR
PRODID:-//AT Content Types//AT Event//EN
VERSION:2.0
METHOD:PUBLISH
BEGIN:VEVENT
DTSTAMP:20260423T123058Z
CREATED:20191111T105447Z
UID:ATEvent-f7676e7f7bf849119b7eee253d76d6c8
LAST-MODIFIED:20201111T104906Z
SUMMARY:Pre-Visit Training event
DTSTART:20191122T110000Z
DTEND:20191122T150000Z
DESCRIPTION:*Attendance at this event is compulsory*\nThe pre-visit tr
 aining event will take place on Friday 22nd November at 11:00pm at Gle
 nwherry Hill Farm\, 62C Glenhead Road\, Ballymena BT42 4RF (as part of
  NISP meeting).
CLASS:PUBLIC
END:VEVENT
END:VCALENDAR
